BEGIN:VCALENDAR
VERSION:2.0
PRODID:-//eventon.com NONSGML v1.0//EN
CALSCALE:GREGORIAN
METHOD:PUBLISH
BEGIN:VEVENT
UID:69eb45c25074c
DTSTAMP:20260424T102818Z
DTSTART:20230906T003000Z
DTEND:20230906T033000Z
LOCATION:
SUMMARY:Pomeriggio informativo Metodo Validation® (gratuito)
DESCRIPTION:Organizzazione: VASI/AVO-ADICASI Settembre: 05 dalle 13:30 alle
  16:30 (3 ore) Docente: Heidi Bontadelli Contatto: viviana.spagnoli@adicasi
 .ch heidibontadelli@hotmail.it\nhttps://metodovalidation.ch/corsi/pomeriggi
 o-informativo-metodo-validation-gratuito/
URL:https://metodovalidation.ch/corsi/pomeriggio-informativo-metodo-validation-gratuito/
END:VEVENT
END:VCALENDAR